BEGIN:VCALENDAR
VERSION:2.0
PRODID:-//DP Pro Event Calendar//3.2.6//EN
BEGIN:VEVENT
UID:f6c2afd3-9874-4cf0-861e-9dd7d5a74aac
DTSTART;TZID=Europe/Berlin:20230411T074500
DTEND;TZID=Europe/Berlin:20230411T161000
DTSTAMP:20240411T232819Z
SUMMARY:TE10 - Grundlagen der Technik  - FM Jawed Lukas Ahmadi (Warteliste)
DESCRIPTION:Das angeführte Mitglied wurde auf die Warteliste gesetzt und kann eventuell kurzfristig als Ersatzteilnehmer für den Kurs eingeteilt werden.Feuerwehr: FF St.Pölten-WagramMitglied: FM Jawed Lukas AhmadinKursdetails: TE10 - Grundlagen der Technik 11.04.2023 07:45 bis 11.04.2023 16:10Dies ist eine Systemgenerierte Nachricht. Nicht antworten! Der aktuelle Status ist in FDISK ersichtlich!
LOCATION:
URL:
END:VEVENT
END:VCALENDAR