BEGIN:VCALENDAR
VERSION:2.0
PRODID:-//DP Pro Event Calendar//3.2.6//EN
BEGIN:VEVENT
UID:ca402827-5978-446e-834a-0b51c7f449b5
DTSTART;TZID=Europe/Berlin:20230318T070000
DTEND;TZID=Europe/Berlin:20230318T070000
DTSTAMP:20240309T090323Z
SUMMARY:Modul GFÜ in St. Pölten-Wagram
DESCRIPTION:
LOCATION:
URL:
END:VEVENT
END:VCALENDAR