BEGIN:VCALENDAR
VERSION:2.0
PRODID:-//DP Pro Event Calendar//3.2.6//EN
BEGIN:VEVENT
UID:4c60d209-9211-4f8c-957c-e0661aed0b8f
DTSTART;TZID=Europe/Berlin:20230312T130000
DTEND;TZID=Europe/Berlin:20230312T160000
DTSTAMP:20230329T222823Z
SUMMARY:ASMTRM - Abschluss Truppmann  - PFM Zureah Basilio (Teilnehmerliste)
DESCRIPTION:Das angeführte Mitglied wurde auf die Teilnehmerliste gesetzt. Die Teilnehmerinformation ist auch in FDISK über "angemeldete Kurse" abrufbar. Die Aufnahme hat in Dienstbekleidung nach NÖ LFV DA 3.6.2 zu erfolgen\, der Feuerwehrpass ist vorzulegen.Feuerwehr: FF St.Pölten-WagramMitglied: PFM Zureah BasilioKursdetails: ASMTRM - Abschluss Truppmann 12.03.2023 13:00 bis 12.03.2023 16:00     12.03.2023: 13:00 bis 16:00nAufnahme: FF Haus St. Pölten-Wagram um 12:30Entsprechend Ihrer Anmeldung werden Sie nach FF Haus St. Pölten-Wagram einberufen und werden ersucht sich bis 12:50 Uhr einzufinden. Mitzubringen sind:Feuerwehrpass Bestätigung für 6 stündigen Erste Hilfe Kurs Vollständige Einsatzbekleidunglaut DA 3.6.2 Ausgabe 1/16Dies ist eine Systemgenerierte Nachricht.Nicht antworten! Der aktuelle Status ist in FDISK ersichtlich!
LOCATION:
URL:
END:VEVENT
END:VCALENDAR