BEGIN:VCALENDAR
VERSION:2.0
PRODID:-//DP Pro Event Calendar//3.2.6//EN
BEGIN:VEVENT
UID:07c8374c-e032-45b5-8dc5-9d7ac5dbbe82
DTSTART;TZID=Europe/Berlin:20230311T170000
DTEND;TZID=Europe/Berlin:20230311T130000
DTSTAMP:20240312T232823Z
SUMMARY:FWBW - Feuerwehr Basiswissen - feuerwehrübergreifend  - FM MarcelGradinger (Teilnehmerliste)
DESCRIPTION:Das angeführte Mitglied wurde auf die Teilnehmerliste gesetzt. Die Teilnehmerinformation ist auch in FDISK über "angemeldete Kurse" abrufbar. Die Aufnahme hat in Dienstbekleidung nach NÖ LFV DA 3.6.2 zu erfolgen\, der Feuerwehrpass ist vorzulegen.Feuerwehr: FF St.Pölten-WagramMitglied: FM Marcel GradingerKursdetails: FWBW - Feuerwehr Basiswissen - feuerwehrübergreifend 10.03.2023 17:00 bis 12.03.2023 13:00     10.03.2023: 17:00 bis 21:10     11.03.2023: 07:15 bis 17:30     12.03.2023: 07:15 bis 13:00Aufnahme: Feuerwehrhaus St. Pölten - Wagram um 16:30 Dies ist eine Systemgenerierte Nachricht. Nicht antworten! Der aktuelle Status ist in FDISK ersichtlich!
LOCATION:
URL:
END:VEVENT
END:VCALENDAR