BEGIN:VCALENDAR
VERSION:2.0
PRODID:-//DP Pro Event Calendar//3.2.6//EN
BEGIN:VEVENT
UID:9e232a98-41f4-4179-ac3c-2eca3e5ccd59
DTSTART;TZID=Europe/Berlin:20221207T180000
DTEND;TZID=Europe/Berlin:20221207T160000
DTSTAMP:20230329T222823Z
SUMMARY:AFGFÜ - Lehrbeauftragter Grundlagen Führung  - LM Jan-Alexander Strobl (Teilnehmerliste)
DESCRIPTION:Das angeführte Mitglied wurde auf die Teilnehmerliste gesetzt. Die Teilnehmerinformation ist auch in FDISK über "angemeldete Kurse" abrufbar. Die Aufnahme hat in Dienstbekleidung nach NÖ LFV DA 3.6.2 zu erfolgen\, der Feuerwehrpass ist vorzulegen.Feuerwehr: FF St.Pölten-WagramMitglied: LM Jan-Alexander StroblKursdetails: AFGFÜ - Lehrbeauftragter Grundlagen Führung 05.12.2022 18:00 bis 07.12.2022 16:00     05.12.2022: 18:00 bis 21:00     06.12.2022: 07:10 bis 17:00     07.12.2022:07:10 bis 16:00Aufnahme: Tulln\, NÖ Feuerwehr- und Sicherheitszentrum um 17:30Zusätzlich erforderliche Ausrüstung:  Einsatzbekleidung nach Dienstanweisung 3.6.2 des NÖ LFV Hinweis:Ausbilderleitfäden werden am Postweg an den Teilnehmer versendet\, diese sind zum Modul mitzunehmen. Dies ist eine Systemgenerierte Nachricht. Nicht antworten! Der aktuelle Status ist in FDISK ersichtlich!
LOCATION:
URL:
END:VEVENT
END:VCALENDAR