BEGIN:VCALENDAR
VERSION:2.0
PRODID:-//DP Pro Event Calendar//3.2.6//EN
BEGIN:VEVENT
UID:5ea8404b-29b1-4f9c-8042-bbe54446ae1e
DTSTART;TZID=Europe/Berlin:20221125T074500
DTEND;TZID=Europe/Berlin:20221125T161000
DTSTAMP:20230329T222823Z
SUMMARY:SBFMD - Sachbearbeiter Feuerwehrmedizinischer Dienst  - SB DanielaBointner (Teilnehmerliste)
DESCRIPTION:Das angeführte Mitglied wurde auf die Teilnehmerliste gesetzt. Die Teilnehmerinformation ist auch in FDISK über "angemeldete Kurse" abrufbar. Die Aufnahme hat in Dienstbekleidung nach NÖ LFV DA 3.6.2 zu erfolgen\, der Feuerwehrpass ist vorzulegen.Feuerwehr: FF St.Pölten-WagramMitglied: SB Daniela BointnerKursdetails: SBFMD - Sachbearbeiter Feuerwehrmedizinischer Dienst 25.11.2022 07:45 bis 25.11.2022 16:10     25.11.2022: 07:45 bis 16:10Aufnahme: Tulln\, NÖ Feuerwehr- und Sicherheitszentrum um 07:15Dies ist eine Systemgenerierte Nachricht. Nichtantworten! Der aktuelle Status ist in FDISK ersichtlich!
LOCATION:
URL:
END:VEVENT
END:VCALENDAR