BEGIN:VCALENDAR
VERSION:2.0
PRODID:-//DP Pro Event Calendar//3.2.6//EN
BEGIN:VEVENT
UID:bcb076f3-0a54-435a-94a8-cf7712b7af22
DTSTART;TZID=Europe/Berlin:20221117T180000
DTEND;TZID=Europe/Berlin:20221117T210000
DTSTAMP:20230329T222822Z
SUMMARY:BST57 - VB - Brandmeldeanlagen im Einsatz  - LM  Dipl.-FW\, akad. BM. Stefan Pichler (Teilnehmerliste)
DESCRIPTION:Das angeführte Mitglied wurde auf die Teilnehmerliste gesetzt. Die Teilnehmerinformation ist auch in FDISK über "angemeldete Kurse" abrufbar. Die Aufnahme hat in Dienstbekleidung nach NÖ LFV DA 3.6.2 zu erfolgen\, der Feuerwehrpass ist vorzulegen.Feuerwehr: FF St.Pölten-WagramMitglied: LM  Dipl.-FW\, akad. BM. Stefan PichlerKursdetails: BST57- VB - Brandmeldeanlagen im Einsatz 17.11.2022 18:00 bis 17.11.2022 21:00n     17.11.2022: 18:00 bis 21:00Aufnahme: Tulln\, NÖ Feuerwehr- und Sicherheitszentrum um 17:30 Dies ist eine Systemgenerierte Nachricht. Nicht antworten! Der aktuelle Status ist in FDISK ersichtlich!
LOCATION:
URL:
END:VEVENT
END:VCALENDAR