BEGIN:VCALENDAR
VERSION:2.0
PRODID:-//DP Pro Event Calendar//3.2.6//EN
BEGIN:VEVENT
UID:a4b7fee4-49ed-4df1-afc5-dcf3b9825ae4
DTSTART;TZID=Europe/Berlin:20220902T170000
DTEND;TZID=Europe/Berlin:20220902T130000
DTSTAMP:20230329T222822Z
SUMMARY:FWBW - Feuerwehr Basiswissen - feuerwehrübergreifend  - PFM Julien Marcel Prohaska (Teilnehmerliste)
DESCRIPTION:Das angeführte Mitglied wurde auf die Teilnehmerliste gesetzt. Die Teilnehmerinformation ist auch in FDISK über "angemeldete Kurse" abrufbar. Die Aufnahme hat in Dienstbekleidung nach NÖ LFV DA 3.6.2 zu erfolgen\, der Feuerwehrpass ist vorzulegen.Feuerwehr: FF St.Pölten-WagramMitglied: PFM Julien Marcel ProhaskaKursdetails: FWBW - Feuerwehr Basiswissen - feuerwehrübergreifend 02.09.2022 17:00 bis 04.09.2022 13:00     02.09.2022: 17:00 bis 21:10     03.09.2022: 07:15 bis 17:30     04.09.2022: 07:15 bis 13:00Aufnahme: Feuerwehrhaus St. Pölten - Wagram um 16:30 Dies ist eine Systemgenerierte Nachricht. Nicht antworten! Der aktuelle Status ist in FDISK ersichtlich!
LOCATION:
URL:
END:VEVENT
END:VCALENDAR