BEGIN:VCALENDAR
VERSION:2.0
PRODID:-//DP Pro Event Calendar//3.2.6//EN
BEGIN:VEVENT
UID:217d6123-daeb-461c-91f9-f4b37a69ce5a
DTSTART;TZID=Europe/Berlin:20220826T074500
DTEND;TZID=Europe/Berlin:20220826T170000
DTSTAMP:20230329T222822Z
SUMMARY:TE20 - Menschenrettung aus KFZ  - FM Julian Lirsch (Teilnehmerliste)
DESCRIPTION:Das angeführte Mitglied wurde auf die Teilnehmerliste gesetzt. Die Teilnehmerinformation ist auch in FDISK über "angemeldete Kurse" abrufbar. Die Aufnahme hat in Dienstbekleidung nach NÖ LFV DA 3.6.2 zu erfolgen\, der Feuerwehrpass ist vorzulegen.Feuerwehr: FF St.Pölten-WagramMitglied: FM Julian LirschKursdetails: TE20 - Menschenrettung aus KFZ 26.08.2022 07:45 bis 26.08.2022 17:00     26.08.2022: 07:45 bis 17:00nAufnahme: Tulln\, NÖ Feuerwehr- und Sicherheitszentrum um 07:15Zusätzlich erforderliche Ausrüstung:  Einsatzbekleidung nach Dienstanweisung 3.6.2 des NÖ LFV Dies ist eine Systemgenerierte Nachricht. Nicht antworten! Der aktuelle Status ist in FDISK ersichtlich!
LOCATION:
URL:
END:VEVENT
END:VCALENDAR