BEGIN:VCALENDAR
VERSION:2.0
PRODID:-//DP Pro Event Calendar//3.2.6//EN
BEGIN:VEVENT
UID:1ca98a40-ec47-49a1-9837-b1967d30c618
DTSTART;TZID=Europe/Berlin:20220715T074500
DTEND;TZID=Europe/Berlin:20220715T150000
DTSTAMP:20230329T222822Z
SUMMARY:FÜ20 - Führungsstufe 2  - LM Hannes Weichhart (Teilnehmerliste)
DESCRIPTION:Das angeführte Mitglied wurde auf die Teilnehmerliste gesetzt. Die Teilnehmerinformation ist auch in FDISK über "angemeldete Kurse" abrufbar. Die Aufnahme hat in Dienstbekleidung nach NÖ LFV DA 3.6.2 zu erfolgen\, der Feuerwehrpass ist vorzulegen.Feuerwehr: FF St.Pölten-WagramMitglied: LM Hannes WeichhartKursdetails: FÜ20 - Führungsstufe 2 13.07.2022 07:45 bis 15.07.2022 15:00     13.07.2022: 07:45 bis 17:00   14.07.2022: 07:10 bis 17:00     15.07.2022: 07:10 bis 15:00Aufnahme: Tulln\, NÖ Feuerwehr- und Sicherheitszentrum um 07:15Zusätzlich empfohlene Ausrüstung\;Schutzjacke\, Feuerwehrstiefel und Schirmmütze nach DA 3.6.2 des NÖ LFVDies ist eine Systemgenerierte Nachricht. Nicht antworten! Der aktuelle Status ist in FDISK ersichtlich!
LOCATION:
URL:
END:VEVENT
END:VCALENDAR