BEGIN:VCALENDAR
VERSION:2.0
PRODID:-//DP Pro Event Calendar//3.2.6//EN
BEGIN:VEVENT
UID:8335bf04-435e-4d8e-b284-0f5576a469d1
DTSTART;TZID=Europe/Berlin:20220609T074500
DTEND;TZID=Europe/Berlin:20220609T150000
DTSTAMP:20230610T232818Z
SUMMARY:AFAT - Lehrbeauftragter Atemschutz  - LM Fabian Zeller (Teilnehmerliste)
DESCRIPTION:Das angeführte Mitglied wurde auf die Teilnehmerliste gesetzt. Die Teilnehmerinformation ist auch in FDISK über "angemeldete Kurse" abrufbar. Die Aufnahme hat in Dienstbekleidung nach NÖ LFV DA 3.6.2 zu erfolgen\, der Feuerwehrpass ist vorzulegen.Feuerwehr: FF St.Pölten-WagramMitglied: LM Fabian ZellerKursdetails: AFAT - Lehrbeauftragter Atemschutz 09.06.2022 07:45 bis 10.06.2022 15:00     09.06.2022: 07:45 bis 17:00     10.06.2022: 07:10 bis 15:00Aufnahme: Tulln\, NÖ Feuerwehr- und Sicherheitszentrum um 07:15Hinweis: Ausbilderleitfaden wird am Postweg an den Teilnehmer versendet\, dieser ist zum Modul mitzunehmen! nDies ist eine Systemgenerierte Nachricht. Nicht antworten! Der aktuelle Status ist in FDISK ersichtlich!
LOCATION:
URL:
END:VEVENT
END:VCALENDAR