BEGIN:VCALENDAR
VERSION:2.0
PRODID:-//DP Pro Event Calendar//3.2.6//EN
BEGIN:VEVENT
UID:c39f5a3f-305e-416a-9a89-fa8426e5b70c
DTSTART;TZID=Europe/Berlin:20220524T074500
DTEND;TZID=Europe/Berlin:20220524T170000
DTSTAMP:20230525T232821Z
SUMMARY:FJJB - Jugendbetreuer  - FM Julian Lirsch (Warteliste)
DESCRIPTION:Das angeführte Mitglied wurde auf die Warteliste gesetzt und kann eventuell kurzfristig als Ersatzteilnehmer für den Kurs eingeteilt werden.Feuerwehr: FF St.Pölten-WagramMitglied: FM Julian LirschKursdetails: FJJB - Jugendbetreuer 23.05.2022 07:45 bis 25.05.2022 17:00Dies ist eine Systemgenerierte Nachricht. Nicht antworten! Der aktuelle Status ist in FDISK ersichtlich!
LOCATION:
URL:
END:VEVENT
END:VCALENDAR