BEGIN:VCALENDAR
VERSION:2.0
PRODID:-//DP Pro Event Calendar//3.2.6//EN
BEGIN:VEVENT
UID:4618a621-486f-40a0-85c8-0789af5eb5fc
DTSTART;TZID=Europe/Berlin:20220430T080000
DTEND;TZID=Europe/Berlin:20220430T160000
DTSTAMP:20230430T232818Z
SUMMARY:FLBBSBWF - Feuerwehrleistungsbewerb Bronze und Silber - Bewerter Fortbildung  - ASB Martin Bartos (Teilnehmerliste)
DESCRIPTION:Das angeführte Mitglied wurde auf die Teilnehmerliste gesetzt. Die Teilnehmerinformation ist auch in FDISK über "angemeldete Kurse" abrufbar. Die Aufnahme hat in Dienstbekleidung nach NÖ LFV DA 3.6.2 zu erfolgen\, der Feuerwehrpass ist vorzulegen.Feuerwehr: FF St.Pölten-WagramMitglied: ASB Martin BartosKursdetails: FLBBSBWF - Feuerwehrleistungsbewerb Bronze und Silber - Bewerter Fortbildung 30.04.2022 08:00 bis 30.04.2022 16:00     30.04.2022: 08:00 bis 16:00Aufnahme: Hürm\, FW-Hausum 07:30  Dies ist eine Systemgenerierte Nachricht. Nicht antworten! Der aktuelle Status ist in FDISK ersichtlich!
LOCATION:
URL:
END:VEVENT
END:VCALENDAR