BEGIN:VCALENDAR
VERSION:2.0
PRODID:-//DP Pro Event Calendar//3.2.6//EN
BEGIN:VEVENT
UID:f8b93577-7c84-4798-8dda-6c488f84ad09
DTSTART;TZID=Europe/Berlin:20220407T074500
DTEND;TZID=Europe/Berlin:20220407T170000
DTSTAMP:20230407T232827Z
SUMMARY:FÜ10 - Führungsstufe 1  - LM  Dipl.-FW\, akad. BM. Stefan Pichler (Teilnehmerliste)
DESCRIPTION:Das angeführte Mitglied wurde auf die Teilnehmerliste gesetzt. Die Teilnehmerinformation ist auch in FDISK über "angemeldete Kurse" abrufbar. Die Aufnahme hat in Dienstbekleidung nach NÖ LFV DA 3.6.2 zu erfolgen\, der Feuerwehrpass ist vorzulegen.Feuerwehr: FF St.Pölten-WagramMitglied: LM  Dipl.-FW\, akad. BM. Stefan PichlerKursdetails: FÜ10- Führungsstufe 1 05.04.2022 07:45 bis 07.04.2022 17:00     05.04.2022: 07:45 bis 17:00     06.04.2022: 07:10 bis 17:00     07.04.2022: 07:10 bis 17:00Aufnahme: Tulln\, NÖ Feuerwehr- und Sicherheitszentrum um 07:15Zusätzlich empfohlene Ausrüstung\;Schutzjacke\, Feuerwehrstiefel und Schirmmütze nach DA 3.6.2 des NÖ LFVDies ist eine Systemgenerierte Nachricht. Nicht antworten! Der aktuelle Status ist in FDISK ersichtlich!
LOCATION:
URL:
END:VEVENT
END:VCALENDAR